BEGIN:VCALENDAR
VERSION:2.0
PRODID:-//Fangirls Going Rogue - ECPv4.6.23//NONSGML v1.0//EN
CALSCALE:GREGORIAN
METHOD:PUBLISH
X-WR-CALNAME:Fangirls Going Rogue
X-ORIGINAL-URL:http://fangirlsgoingrogue.com
X-WR-CALDESC:Events for Fangirls Going Rogue
BEGIN:VEVENT
DTSTART;TZID=UTC-5:20160417T140000
DTEND;TZID=UTC-5:20160417T160000
DTSTAMP:20260423T031331
CREATED:20160128T023932Z
LAST-MODIFIED:20160128T023932Z
UID:7617-1460901600-1460908800@fangirlsgoingrogue.com
SUMMARY:Fangirls Going Rogue Disney World Meet-Up
DESCRIPTION:Share this:Click to share on Twitter (Opens in new window)Click to share on Facebook (Opens in new window)Click to share on Tumblr (Opens in new window)Click to share on Pinterest (Opens in new window)Click to share on Reddit (Opens in new window)Click to email a link to a friend (Opens in new window)\n\n	Related\n
URL:http://fangirlsgoingrogue.com/event/fangirls-going-rogue-disney-world-meet-2/
LOCATION:Disney Springs\,  1486 Buena Vista Dr.\, Orlando\, FL\, 32830\, United States
CATEGORIES:Meet-Ups
END:VEVENT
END:VCALENDAR