BEGIN:VCALENDAR
VERSION:2.0
PRODID:-//Fangirls Going Rogue - ECPv4.6.23//NONSGML v1.0//EN
CALSCALE:GREGORIAN
METHOD:PUBLISH
X-WR-CALNAME:Fangirls Going Rogue
X-ORIGINAL-URL:http://fangirlsgoingrogue.com
X-WR-CALDESC:Events for Fangirls Going Rogue
BEGIN:VEVENT
DTSTART;TZID=UTC-5:20160716T123000
DTEND;TZID=UTC-5:20160716T131500
DTSTAMP:20260422T204427
CREATED:20160526T132624Z
LAST-MODIFIED:20160526T132624Z
UID:7985-1468672200-1468674900@fangirlsgoingrogue.com
SUMMARY:Fangirls Going Rogue/Star Wars Report on Celebration Europe Podcast Stage
DESCRIPTION:The One Force Stage\, announced today\, will feature costume groups and podcasts throughout Celebration Europe. Podcasts like Full of Sith\, Lattes With Leia\, Radio 1138\, and Take Cover will broadcast from the convention. Fangirls Going Rogue will be teaming up with Star Wars Report for a must-see show on Saturday\, July 16th\, at 12:30 p.m. (UK time). Listen as Tricia Barr\, Bethany Blanton and Riley Blanton bring their unique flair to London. \nStar Wars Celebration Orlando tickets go on sale this afternoon. Tricia Barr joins her Fangirls Going Rogue co-host on Skywalking Through Neverland to discuss this year and next year’s conventions. \nFangirls Going Rogue is available on iTunes\, Stitcher\, and RSS. \nFangirls Going Rogue: @FGGoingRogue \nStar Wars Report: @StarWarsReport \nTricia: @fangirlcantina \nBethany: @BethanyLBlanton \nRiley: @TheRileyGuy \nShare this:Click to share on Twitter (Opens in new window)Click to share on Facebook (Opens in new window)Click to share on Tumblr (Opens in new window)Click to share on Pinterest (Opens in new window)Click to share on Reddit (Opens in new window)Click to email a link to a friend (Opens in new window)\n\n	Related\n
URL:http://fangirlsgoingrogue.com/event/fangirls-going-roguestar-wars-report-on-celebration-europe-podcast-stage/
LOCATION:Celebration Podcast Stage\, London\, United Kingdom
CATEGORIES:Conventions,Meet-Ups
ATTACH;FMTTYPE=image/jpeg:http://fangirlsgoingrogue.com/wp-content/uploads/2016/05/SWR-FGGR-SWCE-FGGRblog-feature-2.jpg
END:VEVENT
END:VCALENDAR