BEGIN:VCALENDAR
VERSION:2.0
PRODID:-//Fangirls Going Rogue - ECPv4.6.23//NONSGML v1.0//EN
CALSCALE:GREGORIAN
METHOD:PUBLISH
X-WR-CALNAME:Fangirls Going Rogue
X-ORIGINAL-URL:http://fangirlsgoingrogue.com
X-WR-CALDESC:Events for Fangirls Going Rogue
BEGIN:VEVENT
DTSTART;TZID=UTC-5:20170413T200000
DTEND;TZID=UTC-5:20170413T223000
DTSTAMP:20260423T050300
CREATED:20170411T143052Z
LAST-MODIFIED:20170411T143052Z
UID:8440-1492113600-1492122600@fangirlsgoingrogue.com
SUMMARY:Sarah Woloski at Drowning In Moonlight
DESCRIPTION:Sarah Woloski will be joining Richard Woloski and several other podcasters on stage to celebrate and commemorate Carrie Fisher. Drowning in Moonlight is a memorial benefit in honor of Carrie Fisher (1956-2016) and in the service of The Midnight Mission (www.midnightmission.org) – a cause that was close to Ms. Fisher’s heart. \n \nShare this:Click to share on Twitter (Opens in new window)Click to share on Facebook (Opens in new window)Click to share on Tumblr (Opens in new window)Click to share on Pinterest (Opens in new window)Click to share on Reddit (Opens in new window)Click to email a link to a friend (Opens in new window)\n\n	Related\n
URL:http://fangirlsgoingrogue.com/event/sarah-woloski-at-drowning-in-moonlight/
LOCATION:Rosen Centre Hotel\, Orlando\, FL\, United States
CATEGORIES:Conventions
ATTACH;FMTTYPE=image/png:http://fangirlsgoingrogue.com/wp-content/uploads/2017/04/1485167890175-1.png
END:VEVENT
END:VCALENDAR