BEGIN:VCALENDAR
VERSION:2.0
PRODID:-//Fangirls Going Rogue - ECPv4.6.23//NONSGML v1.0//EN
CALSCALE:GREGORIAN
METHOD:PUBLISH
X-WR-CALNAME:Fangirls Going Rogue
X-ORIGINAL-URL:http://fangirlsgoingrogue.com
X-WR-CALDESC:Events for Fangirls Going Rogue
BEGIN:VEVENT
DTSTART;VALUE=DATE:20160310
DTEND;VALUE=DATE:20160311
DTSTAMP:20260423T050213
CREATED:20160128T023556Z
LAST-MODIFIED:20160128T023556Z
UID:7616-1457568000-1457654399@fangirlsgoingrogue.com
SUMMARY:Sarah's and Teresa's Birthdays
DESCRIPTION:That’s right\, hosts Sarah and Teresa have the same birthday day! \nJoin us in wishing them a Happy Birthday! \nShare this:Click to share on Twitter (Opens in new window)Click to share on Facebook (Opens in new window)Click to share on Tumblr (Opens in new window)Click to share on Pinterest (Opens in new window)Click to share on Reddit (Opens in new window)Click to email a link to a friend (Opens in new window)\n\n	Related\n
URL:http://fangirlsgoingrogue.com/event/sarahs-and-teresas-birthday-2/
CATEGORIES:Special Days
ATTACH;FMTTYPE=:
END:VEVENT
END:VCALENDAR