BEGIN:VCALENDAR
VERSION:2.0
PRODID:-//Fangirls Going Rogue - ECPv4.6.23//NONSGML v1.0//EN
CALSCALE:GREGORIAN
METHOD:PUBLISH
X-WR-CALNAME:Fangirls Going Rogue
X-ORIGINAL-URL:http://fangirlsgoingrogue.com
X-WR-CALDESC:Events for Fangirls Going Rogue
BEGIN:VEVENT
DTSTART;TZID=UTC-5:20160504T190000
DTEND;TZID=UTC-5:20160504T200000
DTSTAMP:20260423T013416
CREATED:20160427T131532Z
LAST-MODIFIED:20160427T131532Z
UID:7963-1462388400-1462392000@fangirlsgoingrogue.com
SUMMARY:Star Wars Day\, Wellington\, FL Barnes and Noble
DESCRIPTION:Tricia Barr will host a Star Wars Day event at 7PM at the Barnes and Noble in Wellington\, FL. \nShare this:Click to share on Twitter (Opens in new window)Click to share on Facebook (Opens in new window)Click to share on Tumblr (Opens in new window)Click to share on Pinterest (Opens in new window)Click to share on Reddit (Opens in new window)Click to email a link to a friend (Opens in new window)\n\n	Related\n
URL:http://fangirlsgoingrogue.com/event/star-wars-day-wellington-fl-barnes-and-noble/
LOCATION:Barnes and Noble\, Wellington\, FL\, United States
CATEGORIES:Special Days
END:VEVENT
END:VCALENDAR