BEGIN:VCALENDAR
VERSION:2.0
PRODID:-//Fangirls Going Rogue - ECPv4.6.23//NONSGML v1.0//EN
CALSCALE:GREGORIAN
METHOD:PUBLISH
X-WR-CALNAME:Fangirls Going Rogue
X-ORIGINAL-URL:http://fangirlsgoingrogue.com
X-WR-CALDESC:Events for Fangirls Going Rogue
BEGIN:VEVENT
DTSTART;VALUE=DATE:20191213
DTEND;VALUE=DATE:20191215
DTSTAMP:20260422T195721
CREATED:20191028T151917Z
LAST-MODIFIED:20191212T134225Z
UID:9229-1576195200-1576367999@fangirlsgoingrogue.com
SUMMARY:Star Wars Sequel Trilogy Rewatch Starts December 13
DESCRIPTION:Every good thing has an ending. The Rise Of Skywalker hits theaters on December 20\, 2019. \nBut\, before we see the ending or how the journey continues for our favorite characters\, let’s have a live tweet watch party of The Force Awakens and The Last Jedi.  \nSandra Choute will be live tweeting from the Fangirls Going Rogue Twitter handle on December 13 and 14 to watch and discuss Episodes 7 and 8.  \nWe would be honored if you would join us. \n\nThe Force Awakens\, December 13\, time 8PM ET/5PM PT\nThe Last Jedi\, December 14\, time 8PM ET/5PM PT\n\nSocial Media \n\nFangirls Going Rogue: @FGGoingRogue\nFacebook: Fangirls Going Rogue\nInstagram: @FGGoingRogue\nVoicemail: 331-21 Ewoks or 331-213-9657 (or hit that cool Voicemail button on the website)\nEmail: contact@fangirlsgoingrogue.com(or use our Contact page)\n\n  \n \nShare this:Click to share on Twitter (Opens in new window)Click to share on Facebook (Opens in new window)Click to share on Tumblr (Opens in new window)Click to share on Pinterest (Opens in new window)Click to share on Reddit (Opens in new window)Click to email a link to a friend (Opens in new window)\n\n	Related\n
URL:http://fangirlsgoingrogue.com/event/star-wars-sequel-trilogy-rewatch/
CATEGORIES:Live Tweet Party
ATTACH;FMTTYPE=image/jpeg:http://fangirlsgoingrogue.com/wp-content/uploads/2019/10/Prepare-for-the-end-ST-1.jpg
ORGANIZER;CN="Fangirls%20Going%20Rogue":MAILTO:contact@fangirlsgoingrogue.com
END:VEVENT
END:VCALENDAR