BEGIN:VCALENDAR
VERSION:2.0
PRODID:-//Fangirls Going Rogue - ECPv4.6.23//NONSGML v1.0//EN
CALSCALE:GREGORIAN
METHOD:PUBLISH
X-WR-CALNAME:Fangirls Going Rogue
X-ORIGINAL-URL:http://fangirlsgoingrogue.com
X-WR-CALDESC:Events for Fangirls Going Rogue
BEGIN:VEVENT
DTSTART;VALUE=DATE:20160202
DTEND;VALUE=DATE:20160203
DTSTAMP:20260423T064508
CREATED:20160128T023421Z
LAST-MODIFIED:20160128T023421Z
UID:7615-1454371200-1454457599@fangirlsgoingrogue.com
SUMMARY:Tricia's Birthday
DESCRIPTION:Today is host Tricia’s birthday! Join us in wishing her a Happy Birthday! \nShare this:Click to share on Twitter (Opens in new window)Click to share on Facebook (Opens in new window)Click to share on Tumblr (Opens in new window)Click to share on Pinterest (Opens in new window)Click to share on Reddit (Opens in new window)Click to email a link to a friend (Opens in new window)\n\n	Related\n
URL:http://fangirlsgoingrogue.com/event/tricias-birthday-2/
CATEGORIES:Special Days
ATTACH;FMTTYPE=:
END:VEVENT
END:VCALENDAR